BEGIN:VCALENDAR
VERSION:2.0
PRODID:-//Balatonboglári Varga Béla Városi Művelődési Ház - ECPv5.2.0//NONSGML v1.0//EN
CALSCALE:GREGORIAN
METHOD:PUBLISH
X-WR-CALNAME:Balatonboglári Varga Béla Városi Művelődési Ház
X-ORIGINAL-URL:http://www.vkkboglar.hu
X-WR-CALDESC:Events for Balatonboglári Varga Béla Városi Művelődési Ház
BEGIN:VTIMEZONE
TZID:Europe/Budapest
BEGIN:DAYLIGHT
TZOFFSETFROM:+0100
TZOFFSETTO:+0200
TZNAME:CEST
DTSTART:20260329T010000
END:DAYLIGHT
BEGIN:STANDARD
TZOFFSETFROM:+0200
TZOFFSETTO:+0100
TZNAME:CET
DTSTART:20261025T010000
END:STANDARD
END:VTIMEZONE
BEGIN:VEVENT
DTSTART;TZID=Europe/Budapest:20260122T180000
DTEND;TZID=Europe/Budapest:20260122T190000
DTSTAMP:20260421T211628
CREATED:20260112T084256Z
LAST-MODIFIED:20260112T084256Z
UID:5250-1769104800-1769108400@www.vkkboglar.hu
SUMMARY:A BÁBJÁTÉKOS
DESCRIPTION:Kemény Henrik vitathatatlanul a legfontosabb 20. századi magyar bábművész\, a vásári bábszínház hagyományainak gondozója\, egyszersmind új játékstílus\, új karakterek megteremtője. Vicceit\, mókás fordulatait\, jellegzetes hanghordozását országszerte ismerik\, akárcsak Hakapeszi Makit\, Gyufa Gyurit és persze Vitéz Lászlót\, a bábfigurákat\, akiket ő tett híressé. Nizsai Dániel egyszemélyes előadása\, A bábjátékos arra tesz kísérletet\, hogy bemutassa rendkívül gazdag életének legfontosabb állomásait. Mozaikos portré egy különleges emberről\, akinek a sorsát a 20. századi Magyarország tragikus eseményei formálták. Igaz mese sikerekről\, viszontagságokról\, hősökről\, családról és mindenekelőtt a színház\, a játék csodájáról. \nElőadja: Nizsai Dániel \nA program hossza: kb. 65 perc\nJátszóhely: Balatonboglári Varga Béla Városi Művelődési Ház (Árpád u. 17.)\nIdőpont: 2026. jan. 22. (Cs) 18:00\n \n\n\n\n\n\n\n\n\n\n\n\n\n\n\nJegyinformációk\n\n\nElővételi kedvezmény! 2026. január 18. éjfélig 500 Ft elővételi kedvezményt biztosítunk\, mely a jegyek kosárba tételét követően kerül levonásra. Helyi lakosoknak – lakcímkártya felmutatásával – helyszíni jegyvásárláskor is érvényesíthető a kedvezmény! Más kedvezménnyel nem összevonható! \nNincs kezelési költség! Honlapunkon és a helyszínen hétköznap munkanapokon 09:00 – 15:00 óra között kezelési költség nélkül válthat jegyet előadásainkra. \nSZÉP-kártyával is! OTP és MBH SZÉP-kártyával is megválthatja jegyét előadásainkra. \nNem kell kinyomtatni! Az online vásárolt jegyeket nem kell kinyomtatni\, elegendő letöltenie mobilkészülékére még érkezés előtt!
URL:http://www.vkkboglar.hu/event/a-babjatekos/
LOCATION:Lengyel-Magyar Barátság Háza\, Árpád utca 17\, Balatonboglár\, Somogy\, 8630\, Magyarország
CATEGORIES:Előadás
ATTACH;FMTTYPE=image/png:http://www.vkkboglar.hu/wp-content/uploads/2026/01/Kepkivagas-1.png
ORGANIZER;CN="Kultkik%C3%B6t%C5%91":MAILTO:jegy@kultkikoto.hu
END:VEVENT
END:VCALENDAR