BEGIN:VCALENDAR
VERSION:2.0
PRODID:-//Balatonboglári Varga Béla Városi Művelődési Ház - ECPv5.2.0//NONSGML v1.0//EN
CALSCALE:GREGORIAN
METHOD:PUBLISH
X-WR-CALNAME:Balatonboglári Varga Béla Városi Művelődési Ház
X-ORIGINAL-URL:http://www.vkkboglar.hu
X-WR-CALDESC:Events for Balatonboglári Varga Béla Városi Művelődési Ház
BEGIN:VTIMEZONE
TZID:UTC
BEGIN:STANDARD
TZOFFSETFROM:+0000
TZOFFSETTO:+0000
TZNAME:UTC
DTSTART:20210101T000000
END:STANDARD
END:VTIMEZONE
BEGIN:VEVENT
DTSTART;TZID=UTC:20211207T160000
DTEND;TZID=UTC:20211207T170000
DTSTAMP:20260423T111710
CREATED:20211103T110623Z
LAST-MODIFIED:20211103T110623Z
UID:3273-1638892800-1638896400@www.vkkboglar.hu
SUMMARY:Néptáncfoglalkozás óvodásoknak
DESCRIPTION:
URL:http://www.vkkboglar.hu/event/neptancfoglalkozas-ovodasoknak-3/
LOCATION:Lengyel-Magyar Barátság Háza\, Árpád utca 17\, Balatonboglár\, Somogy\, 8630\, Magyarország
CATEGORIES:Szakkör
END:VEVENT
END:VCALENDAR