BEGIN:VCALENDAR
VERSION:2.0
PRODID:-//Balatonboglári Varga Béla Városi Művelődési Ház - ECPv5.2.0//NONSGML v1.0//EN
CALSCALE:GREGORIAN
METHOD:PUBLISH
X-WR-CALNAME:Balatonboglári Varga Béla Városi Művelődési Ház
X-ORIGINAL-URL:http://www.vkkboglar.hu
X-WR-CALDESC:Events for Balatonboglári Varga Béla Városi Művelődési Ház
BEGIN:VTIMEZONE
TZID:UTC
BEGIN:STANDARD
TZOFFSETFROM:+0000
TZOFFSETTO:+0000
TZNAME:UTC
DTSTART:20220101T000000
END:STANDARD
END:VTIMEZONE
BEGIN:VEVENT
DTSTART;TZID=UTC:20220715T190000
DTEND;TZID=UTC:20220814T130000
DTSTAMP:20260419T183520
CREATED:20220620T060840Z
LAST-MODIFIED:20220620T060840Z
UID:3490-1657911600-1660482000@www.vkkboglar.hu
SUMMARY:Radák Eszter\, illetve Szlávik Barbara és Kaszás Konrád festőművészek kiállítása
DESCRIPTION:Radák Eszter a kortárs magyar művészet egyik legeredetibb és legsikeresebb alkotója\, a Magyar Képzőművészeti Egyetem oktatója. Művein a változatos világ különböző helyszínei Rippl-Rónait idéző kontúrokkal\, harsány és pasztózusan megfestett színmezőkkel válnak játékos\, érzékien dús élménnyé. Alkotásaiból egyidejűleg árad szarkasztikus humor és életöröm. Szlávik Barbara és Kaszás Konrád is Radák Eszter tanítványa volt a Képzőművészeti Egyetemen. Szlávik Barbarát geometrikus struktúrákra alapozott festészetében főként az érzékeltetés és annak folyamatai\, a befogadó fél érzékelési tartományának manipulálása foglalkoztatja. Kaszás Konrád az absztrakt formákat úgy tölti fel színekkel\, hogy az különleges optikai hatásokat keltsen. Színei hol kiegészítik vagy felerősítik\, hol kioltják egymást.
URL:http://www.vkkboglar.hu/event/radak-eszter-illetve-szlavik-barbara-es-kaszas-konrad-festomuveszek-kiallitasa/
LOCATION:Vörös és Kék kápolna\, Kápolna Utca 8\, Balatonboglár\, Somogy\, 8630\, Magyarország
CATEGORIES:Kiállítás
ORGANIZER;CN="Kultkik%C3%B6t%C5%91":MAILTO:jegy@kultkikoto.hu
END:VEVENT
BEGIN:VEVENT
DTSTART;TZID=UTC:20220806T203000
DTEND;TZID=UTC:20220806T220000
DTSTAMP:20260419T183520
CREATED:20220620T065829Z
LAST-MODIFIED:20220620T065829Z
UID:3513-1659817800-1659823200@www.vkkboglar.hu
SUMMARY:Az élet értelme – Egypercesek száz percben – Mácsai Pál és Lukács Miklós estje | Kultkikötő
DESCRIPTION:Egypercesek száz percben – Örkény István novelláiból felolvas Mácsai Pál és cimbalmozik Lukács Miklós\nAz „Egyperces novellák” című kötet fél évszázada\, 1968-ban jelent meg először. Az egyik oldalon a közlés minimuma\, a másikon a képzelet maximuma. \nAz írásokban ott az apró darabokra hullt közös ideáink groteszk látványa\, de megfordítva is: a banalitásokban az élet titokzatos teljessége. \nA műfaj ma már fogalom\, sok sora szállóige\, alakjai\, helyzetei beépültek nyelvünkbe\, gondolkodásunkba. \nAz egypercesek különös tulajdonsága\, hogy nem avulnak. Ennek oka nem csak a vonzó forma\, az eredeti optika\, a tiszta szellem és a fényes humor\, hanem első sorban az\, hogy szerzőjük meglátta azt\, ami bennünk és körülöttünk nem változik. \nJegyár:\nNormál szektor: 4.400 Ft | Prémium szektor: 6.900 Ft\nOnline már OTP és MKB SZÉP kártyával is megválthatja jegyét előadásainkra! \n>>Jegyvásárlás online\, kezelési költség nélkül << \nAz előadás hossza: kb. 100 perc\nJátszóhely: KULTKIKÖTŐ – Balatonboglár (Árpád u. 17.)\nIdőpont: 2022. aug. 6. (Szo) 20:30\nEsőnap: 2022. aug. 7. (V) 20:30 \nA gördülékeny jegykezelés érdekében kérjük\, online vásárolt jegyeit még érkezés előtt töltse le mobilkészülékére!
URL:http://www.vkkboglar.hu/event/az-elet-ertelme-egypercesek-szaz-percben-macsai-pal-es-lukacs-miklos-estje-kultkikoto/
LOCATION:Lengyel-Magyar Barátság Háza\, Árpád utca 17\, Balatonboglár\, Somogy\, 8630\, Magyarország
CATEGORIES:Színház
ORGANIZER;CN="Kultkik%C3%B6t%C5%91":MAILTO:jegy@kultkikoto.hu
END:VEVENT
END:VCALENDAR