BEGIN:VCALENDAR
VERSION:2.0
PRODID:-//Balatonboglári Varga Béla Városi Művelődési Ház - ECPv5.2.0//NONSGML v1.0//EN
CALSCALE:GREGORIAN
METHOD:PUBLISH
X-WR-CALNAME:Balatonboglári Varga Béla Városi Művelődési Ház
X-ORIGINAL-URL:http://www.vkkboglar.hu
X-WR-CALDESC:Events for Balatonboglári Varga Béla Városi Művelődési Ház
BEGIN:VTIMEZONE
TZID:UTC
BEGIN:STANDARD
TZOFFSETFROM:+0000
TZOFFSETTO:+0000
TZNAME:UTC
DTSTART:20220101T000000
END:STANDARD
END:VTIMEZONE
BEGIN:VEVENT
DTSTART;TZID=UTC:20220819T080000
DTEND;TZID=UTC:20220917T200000
DTSTAMP:20260419T183441
CREATED:20220620T061722Z
LAST-MODIFIED:20220816T045437Z
UID:3492-1660896000-1663444800@www.vkkboglar.hu
SUMMARY:Várhelyi Tímea és Szüts Miklós festőművész kiállítása
DESCRIPTION:Várhelyi Tímea csendéleti világa egy metafizikus tér\, amelyben kevés számú tárgyi motívum a maga különös\, egzotikus formájában\, egymástól is elszigetelten létezik vagy enyészik el. Az álomszerű hangulatot kísérő enyhe melankólia nem komor\, inkább sejtelmes transzcendenciába forduló létélmény\, melyben az egyensúlyállapot elérésére törekszik. Szüts Miklós alkotásai meditatív hangulatú tájakat ábrázolnak: a feketére hangolt terekben végtelen messzeségbe terülő\, tágas horizontok\, hegyek-vizek romantikus ihletettségű\, ugyanakkor drámai és fenséges találkozásainak vagyunk tanúi. Elvont tájképein univerzálissá teszi a megragadott pillanatot és olyan meditatív hangulatot teremt\, melyet a közép-európai hontalanság és otthonkeresés is átszínez. \n 
URL:http://www.vkkboglar.hu/event/varhelyi-timea-es-szuts-miklos-festomuvesz-kiallitasa/
LOCATION:Vörös és Kék kápolna\, Kápolna Utca 8\, Balatonboglár\, Somogy\, 8630\, Magyarország
CATEGORIES:Kiállítás
ORGANIZER;CN="Kultkik%C3%B6t%C5%91":MAILTO:jegy@kultkikoto.hu
END:VEVENT
BEGIN:VEVENT
DTSTART;TZID=UTC:20220827T203000
DTEND;TZID=UTC:20220827T220000
DTSTAMP:20260419T183441
CREATED:20220620T070852Z
LAST-MODIFIED:20220620T070852Z
UID:3522-1661632200-1661637600@www.vkkboglar.hu
SUMMARY:LIAison – Pokorny Lia zenés estje | Kultkikötő
DESCRIPTION:Zenés stand up Pokorny Liával.\nSemmiképpen nem ajánljuk Pokorny Lia humoros zenés stand up estjét azoknak\, akiket még nem talált el Ámor nyila. Azoknak viszont\, akik már átestek azon a bizonyos veszedelmes kóron\, vagy éppen jelenleg is elszenvedői\, egyenesen kötelező! \nFedezzük fel vele együtt a vágy ezernyi árnyalatát\, hiszen van reménytelen szerelem\, tiltott szerelem\, ábrándos szerelem\, bosszúszomjas szerelem\, érzéki szerelem\, bűnös szerelem\, sőt\, állítólag igaz szerelem is – bár erről megoszlanak a vélemények. \nJegyár:\nNormál szektor: 4.400 Ft | Prémium szektor: 6.900 Ft\nOnline már OTP és MKB SZÉP kártyával is megválthatja jegyét előadásainkra! \n>>Jegyvásárlás online\, kezelési költség nélkül << \nAz előadás hossza: kb. 80 perc\nJátszóhely: KULTKIKÖTŐ – Balatonboglár (Árpád u. 17.)\nIdőpont: 2022. aug. 27. (Szo) 20:30\nEsőnap: 2022. aug. 28. (V) 20:30 \nA gördülékeny jegykezelés érdekében kérjük\, online vásárolt jegyeit még érkezés előtt töltse le mobilkészülékére!
URL:http://www.vkkboglar.hu/event/liaison-pokorny-lia-zenes-estje-kultkikoto/
LOCATION:Lengyel-Magyar Barátság Háza\, Árpád utca 17\, Balatonboglár\, Somogy\, 8630\, Magyarország
CATEGORIES:Színház
ORGANIZER;CN="Kultkik%C3%B6t%C5%91":MAILTO:jegy@kultkikoto.hu
END:VEVENT
END:VCALENDAR