BEGIN:VCALENDAR
VERSION:2.0
PRODID:-//Balatonboglári Varga Béla Városi Művelődési Ház - ECPv5.2.0//NONSGML v1.0//EN
CALSCALE:GREGORIAN
METHOD:PUBLISH
X-WR-CALNAME:Balatonboglári Varga Béla Városi Művelődési Ház
X-ORIGINAL-URL:http://www.vkkboglar.hu
X-WR-CALDESC:Events for Balatonboglári Varga Béla Városi Művelődési Ház
BEGIN:VTIMEZONE
TZID:UTC
BEGIN:STANDARD
TZOFFSETFROM:+0000
TZOFFSETTO:+0000
TZNAME:UTC
DTSTART:20230101T000000
END:STANDARD
END:VTIMEZONE
BEGIN:VEVENT
DTSTART;TZID=UTC:20230524T153000
DTEND;TZID=UTC:20230524T170000
DTSTAMP:20260425T052032
CREATED:20230502T075559Z
LAST-MODIFIED:20230502T075559Z
UID:3930-1684942200-1684947600@www.vkkboglar.hu
SUMMARY:Az Én Petőfim - Beszélgetés Jantyik Zsolt zenész\, szövegíró\, énekessel
DESCRIPTION:
URL:http://www.vkkboglar.hu/event/az-en-petofim-beszelgetes-jantyik-zsolt-zenesz-szovegiro-enekessel/
LOCATION:Lengyel-Magyar Barátság Háza\, Árpád utca 17\, Balatonboglár\, Somogy\, 8630\, Magyarország
CATEGORIES:Egyéb
ORGANIZER;CN="Varga%20B%C3%A9la%20V%C3%A1rosi%20M%C5%B1vel%C5%91d%C3%A9si%20H%C3%A1z":MAILTO:bvbmuvhaz@gmail.com
END:VEVENT
END:VCALENDAR