BEGIN:VCALENDAR
VERSION:2.0
PRODID:-//Balatonboglári Varga Béla Városi Művelődési Ház - ECPv5.2.0//NONSGML v1.0//EN
CALSCALE:GREGORIAN
METHOD:PUBLISH
X-WR-CALNAME:Balatonboglári Varga Béla Városi Művelődési Ház
X-ORIGINAL-URL:http://www.vkkboglar.hu
X-WR-CALDESC:Events for Balatonboglári Varga Béla Városi Művelődési Ház
BEGIN:VTIMEZONE
TZID:UTC
BEGIN:STANDARD
TZOFFSETFROM:+0000
TZOFFSETTO:+0000
TZNAME:UTC
DTSTART:20230101T000000
END:STANDARD
END:VTIMEZONE
BEGIN:VEVENT
DTSTART;VALUE=DATE:20230616
DTEND;VALUE=DATE:20230710
DTSTAMP:20260426T045243
CREATED:20230609T061633Z
LAST-MODIFIED:20230609T073748Z
UID:3957-1686873600-1688947199@www.vkkboglar.hu
SUMMARY:PROFÁN MÍTOSZOK\, EMBERTÖRTÉNETEK - Kiállítás a Kék és a Vörös Kápolnánál
DESCRIPTION:Egy grafikus és egy festőművész egymáshoz szorosan kapcsolódó kiállítása\, melynek „képmeséiben” tipizált karakterek\, a klasszikus kultúrtörténet szereplői\, mitikus alakjai jelennek meg – hol humorosan groteszk\, hol sodró drámai szenvedéllyel.\nHorváth János Milán festőművészi munkássága linómetszetekkel indult\, néhány év után tért rá a különös érzékenységű pasztellképekre. Képi világára alapvetően hatott a francia szimbolizmus és gyakran jelenít meg mélylélektani élményeket. A “szubjektív historizmus” egyik jellegzetes képviselője\, aki konok következetességgel járva egyéni útját\, nem kapcsolódott semmiféle művész-csoportosuláshoz. Festői megformálásában és ikonográfiában a hagyományokhoz való erős kötődés jellemzi. Erőteljes színekkel\, hatalmas érzelmi energiákat közvetítő gesztusokból építkezik. Egyszerre modern és klasszikus: művészetében az emberi sors klasszikus korokat idéző\, mitikus dimenziók révén válik a ma embere számára is átélhetővé. \nVén Zoltán grafikusművész a magyar kisgrafika elismert mestere\, művelődéstörténész\, költő\, író\, mitológiakutató. Klasszikus eljárással készít rézmetszeteket. Változatos és humoros alkotásain az európai műveltség minden ága\, a magyar történelem és hiedelemvilág\, valamint az általános jó és rossz emberi vonások egyaránt képviselve vannak. Újraértelmezi a művészeti korokat\, stílusokat\, és a múlt formavilágába bújva egyben korunk jelentős eseményeit is megörökíti. Művészete egyszersmind hagyományos és modern\, sajátos vénzoltáni humorral átitatva\, amely a szelíd iróniától a groteszk érintésével a végletes szarkazmusig ível. \nKiállításmegnyitó – 2023. június 16. 19:00 – Kék kápolna\nA kiállítást megnyitja Dr. Géger Melinda művészettörténész\, a tárlat kurátora.\nKözreműködik: Fülep Benedek zeneművész \nA megnyitó után szeretettel várjuk a művészekkel egy koccintásra. \nCím: 8630 Balatonboglár\, Kápolna u. 8.\nNyitvatartás: K-Szo: 15:00-20:00 | V: 10:00-13:00 | H: –\nA belépés ingyenes! Megtekinthető 2023. július 9-ig.
URL:http://www.vkkboglar.hu/event/profan-mitoszok-embertortenetek-kiallitas-megnyito-a-kek-kapolnanal/
LOCATION:Vörös és Kék kápolna\, Kápolna Utca 8\, Balatonboglár\, Somogy\, 8630\, Magyarország
CATEGORIES:Kiállítás
ORGANIZER;CN="Kultkik%C3%B6t%C5%91":MAILTO:jegy@kultkikoto.hu
END:VEVENT
BEGIN:VEVENT
DTSTART;TZID=UTC:20230622T190000
DTEND;TZID=UTC:20230622T210000
DTSTAMP:20260426T045243
CREATED:20230609T073040Z
LAST-MODIFIED:20230609T073040Z
UID:3973-1687460400-1687467600@www.vkkboglar.hu
SUMMARY:KÁOSZ - MIKA MYLLYAHO - a Kőszegi Várszínház előadásában
DESCRIPTION:Család. Barátok. Imádott hivatás. Otthon. Hogy a francba késtem el megint a napköziből?!\nSofia\, Julia és Emmi igyekeznek minden fronton helyt állni\, ebben segít nekik\, hogy rendszeresen összejárnak nevetgélni\, jólesően vitatkozni\, tükröt tartani egymásnak. \nA kép sokaknak ismerős lehet. De miért van az\, hogy a rendezett életet élő nők is olykor-olykor elpattannak? Mi az a pont\, amikor kedved támad behúzni egy bunkónak a kávézóban\, vagy elbúcsúzni a pályádtól egy szerelem reményében\, esetleg beolvasni a főnöködnek\, hogy elpuhult a főszerkesztői gerince\, miközben bezár a gyerekeddel az óvoda? Baj\, ha az ember néha kitör önmagából? \nSofia\, Julia és Emmi átlépnek határaikon\, és bár megjárják a dutyit és a káoszt\, megtapasztalják\, hogy érdemes kiállni magunkért\, mert csak a felszabaduláson keresztül vezet út az igazi önismerethez. \nValódi felismeréseket ígér a szórakoztató történet\, mely egy fergeteges humorú\, lelassíthatatlan fúgához hasonlatos. \nSzereplők: Gál Ágnes\, Keresztes Ágnes\, Moldován Blanka \nJelmez: Lokodi Aletta\nDíszlet: Jeli Sára Luca\nZene: Szegvári Júlia\nFordította: Jankó Szép Yvette\nRendező: Csábi Anna \nJegyár: Normál jegy: 2.900 Ft | Támogatói jegy: 4.900 Ft\nElővételi kedvezmény 2023. május 31-ig. | Online OTP és MKB SZÉP-kártyával is megválthatja jegyét előadásainkra! \nJegyvásárlás kezelési költség nélkül \nJátszóhely: KULTKIKÖTŐ – Balatonboglár (Árpád u. 17.)\nIdőpont: 2023. jún. 22. (Cs) 19:00 \nA gördülékeny jegykezelés érdekében kérjük\, online vásárolt jegyeit még érkezés előtt töltse le mobilkészülékére!\nAz előadás a Szabadtéri Színházak Találkozója 2023-as programjának részeként valósul meg.\nA program a Veszprém-Balaton 2023 Európa Kulturális Fővárosa program támogatásával jött létre.
URL:http://www.vkkboglar.hu/event/kaosz-mika-myllyaho-a-koszegi-varszinhaz-eloadasaban/
LOCATION:Lengyel-Magyar Barátság Háza\, Árpád utca 17\, Balatonboglár\, Somogy\, 8630\, Magyarország
CATEGORIES:Színház
ORGANIZER;CN="Kultkik%C3%B6t%C5%91":MAILTO:jegy@kultkikoto.hu
END:VEVENT
END:VCALENDAR