BEGIN:VCALENDAR
VERSION:2.0
PRODID:-//Balatonboglári Varga Béla Városi Művelődési Ház - ECPv5.2.0//NONSGML v1.0//EN
CALSCALE:GREGORIAN
METHOD:PUBLISH
X-WR-CALNAME:Balatonboglári Varga Béla Városi Művelődési Ház
X-ORIGINAL-URL:http://www.vkkboglar.hu
X-WR-CALDESC:Events for Balatonboglári Varga Béla Városi Művelődési Ház
BEGIN:VTIMEZONE
TZID:Europe/Paris
BEGIN:DAYLIGHT
TZOFFSETFROM:+0100
TZOFFSETTO:+0200
TZNAME:CEST
DTSTART:20240331T010000
END:DAYLIGHT
BEGIN:STANDARD
TZOFFSETFROM:+0200
TZOFFSETTO:+0100
TZNAME:CET
DTSTART:20241027T010000
END:STANDARD
END:VTIMEZONE
BEGIN:VEVENT
DTSTART;TZID=Europe/Paris:20240225T103000
DTEND;TZID=Europe/Paris:20240225T113000
DTSTAMP:20260422T213615
CREATED:20240130T122753Z
LAST-MODIFIED:20240130T122753Z
UID:4138-1708857000-1708860600@www.vkkboglar.hu
SUMMARY:ÁLOMSZÖVŐK - Babaszínházi előadás
DESCRIPTION:A különleges előadás a szőttes készítésének több évszázados hagyományát idézi meg. A fonalak szépsége\, a színek sokasága\, a szövés ritmusa\, és maga a szövő ember kezének mozdulatai ritmizálják a játékot. Konkrét szövegek helyett zenei effektek\, dallamok\, énekek és a tárgyakkal előhívott ritmusok teremtenek egy különleges zenei világot a produkciónak. \nA babaszínházi előadások fontos része a lezáró közös játék\, a produkció eszközeit\, illetve hasonló tárgyakat próbálhatnak ki a gyerekek\, s ezalatt felidézik a darab számukra érdekes játékait. \nJátsszák: Baranyai Anita\, Érsek- Csanádi Gyöngyi \nTervező: Csóka Eszter | Zeneszerző: Gyulai Csaba | Rendező: Székely Andrea\nMűhelymunkák: Benkő Krisztina\, Bodó Kata\, Kerekes Péter \nKöszönet Balázs Katalinnak\, aki a szőnyeget szőtte\, és Sümegi Elemérnek\, aki a hangszerek készítéséhez nyújtott segítséget. | Az előadás létrejöttét a Nemzeti Kulturális Alap támogatta. \n\n\n\n\n\n\n\n\n\n\n\n\nJegyár egységesen: 1.900 Ft\nAjánlott korosztály: 1 éves kortól \nJEGYVÁSÁRLÁS KEZELÉSI KÖLTSÉG NÉLKÜL\n  \n\n\n\n\nA program hossza: kb. 40 perc (20 perc előadás\, majd közös játék)\nJátszóhely: KULTKIKÖTŐ – Balatonboglár (Árpád u. 17.)\nIdőpont: 2024. feb 25. (V) 10:30 \nOTP és MBH SZÉP-kártyával is megválthatja jegyét előadásainkra! \nA gördülékeny jegykezelés érdekében kérjük\, online vásárolt jegyeit még érkezés előtt töltse le mobilkészülékére!
URL:http://www.vkkboglar.hu/event/alomszovok-babaszinhazi-eloadas/
LOCATION:Lengyel-Magyar Barátság Háza\, Árpád utca 17\, Balatonboglár\, Somogy\, 8630\, Magyarország
CATEGORIES:Színház
ORGANIZER;CN="Kultkik%C3%B6t%C5%91":MAILTO:jegy@kultkikoto.hu
END:VEVENT
END:VCALENDAR