BEGIN:VCALENDAR
VERSION:2.0
PRODID:-//Balatonboglári Varga Béla Városi Művelődési Ház - ECPv5.2.0//NONSGML v1.0//EN
CALSCALE:GREGORIAN
METHOD:PUBLISH
X-WR-CALNAME:Balatonboglári Varga Béla Városi Művelődési Ház
X-ORIGINAL-URL:https://www.vkkboglar.hu
X-WR-CALDESC:Events for Balatonboglári Varga Béla Városi Művelődési Ház
BEGIN:VTIMEZONE
TZID:UTC
BEGIN:STANDARD
TZOFFSETFROM:+0000
TZOFFSETTO:+0000
TZNAME:UTC
DTSTART:20160101T000000
END:STANDARD
END:VTIMEZONE
BEGIN:VEVENT
DTSTART;TZID=UTC:20160720T210000
DTEND;TZID=UTC:20160720T230000
DTSTAMP:20260420T031823
CREATED:20160714T104641Z
LAST-MODIFIED:20160714T104641Z
UID:460-1469048400-1469055600@www.vkkboglar.hu
SUMMARY:Bábel Sound a Kultkikötőben
DESCRIPTION:Boomerang Baby – Marlene Dietrich ABC\n(zenés est Kultkikötő produkció)\nCímszerepben: Fullajtár Andrea
URL:https://www.vkkboglar.hu/event/babel-sound-a-kultkikotoben-2/
LOCATION:Lengyel-Magyar Barátság Háza\, Árpád utca 17\, Balatonboglár\, Somogy\, 8630\, Magyarország
END:VEVENT
END:VCALENDAR