BEGIN:VCALENDAR
VERSION:2.0
PRODID:-//Balatonboglári Varga Béla Városi Művelődési Ház - ECPv5.2.0//NONSGML v1.0//EN
CALSCALE:GREGORIAN
METHOD:PUBLISH
X-WR-CALNAME:Balatonboglári Varga Béla Városi Művelődési Ház
X-ORIGINAL-URL:https://www.vkkboglar.hu
X-WR-CALDESC:Events for Balatonboglári Varga Béla Városi Művelődési Ház
BEGIN:VTIMEZONE
TZID:UTC
BEGIN:STANDARD
TZOFFSETFROM:+0000
TZOFFSETTO:+0000
TZNAME:UTC
DTSTART:20230101T000000
END:STANDARD
END:VTIMEZONE
BEGIN:VEVENT
DTSTART;TZID=UTC:20230720T103000
DTEND;TZID=UTC:20230720T103000
DTSTAMP:20260421T102302
CREATED:20230629T062517Z
LAST-MODIFIED:20230629T062517Z
UID:3995-1689849000-1689849000@www.vkkboglar.hu
SUMMARY:BORIBON NYARAL – ÖSSZPRÓBA ÉS KULTKIKÖTŐ PRODUKCIÓ
DESCRIPTION:Az előadás a nagy sikerű Boribon kötetek nyomán készült\, amelyben Boribon és Annipanni néhány napos tóparti nyaralásra készül. Egy akkora tóhoz\, ami majdnem olyan nagy\, mint a tenger! Boribon azonnal pancsolni szeretne\, csakhogy nyaralni menni nem ennyire egyszerű.\nHogy miért nem az? Milyen kalandok közepette jutnak el a történet főszereplői – Boribon és Annipanni – a várva várt pancsolásig? Út közben milyen kalandokba keverednek a többi szeretett karakter\, Süni\, Nyuszi és Béka társaságában? Az előadásból kiderül! \n  \nJátssza: Mórocz Adrienn\nRendező: Bercsényi Péter\nZeneszerző: Tallér Zsófia\nTervező: Lisztopád Krisztina\nDramaturg: Pallai Mara \n  \nAz előadás hossza: kb. 45 perc\nAjánlott: 3 éves kortól\nJegyár: 1900 Ft \nJegyvásárlás>> \nJátszóhely: Kultkikötő – Balatonboglár\, Balatonboglári Varga Béla Városi Művelődési Ház (8630 Balatonboglár\, Árpád utca 17.) \nA Kultkikötő gyerekelőadásai 1 éves kor alatt ingyenesen látogathatók\, a helyfoglalás érkezési sorrendben történik.\nOnline jegyvásárlás esetén a jegyeit e-mailben küldjük\, a belépéshez hozza magával elektronikus vagy nyomtatott formában.
URL:https://www.vkkboglar.hu/event/boribon-nyaral-osszproba-es-kultkikoto-produkcio/
LOCATION:Lengyel-Magyar Barátság Háza\, Árpád utca 17\, Balatonboglár\, Somogy\, 8630\, Magyarország
CATEGORIES:Színház
ORGANIZER;CN="Kultkik%C3%B6t%C5%91":MAILTO:jegy@kultkikoto.hu
END:VEVENT
END:VCALENDAR