BEGIN:VCALENDAR
VERSION:2.0
PRODID:-//Balatonboglári Varga Béla Városi Művelődési Ház - ECPv5.2.0//NONSGML v1.0//EN
CALSCALE:GREGORIAN
METHOD:PUBLISH
X-WR-CALNAME:Balatonboglári Varga Béla Városi Művelődési Ház
X-ORIGINAL-URL:https://www.vkkboglar.hu
X-WR-CALDESC:Events for Balatonboglári Varga Béla Városi Művelődési Ház
BEGIN:VTIMEZONE
TZID:UTC
BEGIN:STANDARD
TZOFFSETFROM:+0000
TZOFFSETTO:+0000
TZNAME:UTC
DTSTART:20160101T000000
END:STANDARD
END:VTIMEZONE
BEGIN:VEVENT
DTSTART;TZID=UTC:20160713T190000
DTEND;TZID=UTC:20160717T230000
DTSTAMP:20260420T014226
CREATED:20160711T090257Z
LAST-MODIFIED:20160711T090257Z
UID:427-1468436400-1468796400@www.vkkboglar.hu
SUMMARY:Jazz és a Bor
DESCRIPTION:
URL:https://www.vkkboglar.hu/event/jazz-es-a-bor/
LOCATION:Lengyel-Magyar Barátság Háza\, Árpád utca 17\, Balatonboglár\, Somogy\, 8630\, Magyarország
CATEGORIES:Koncert
END:VEVENT
END:VCALENDAR