BEGIN:VCALENDAR
VERSION:2.0
PRODID:-//Balatonboglári Varga Béla Városi Művelődési Ház - ECPv5.2.0//NONSGML v1.0//EN
CALSCALE:GREGORIAN
METHOD:PUBLISH
X-WR-CALNAME:Balatonboglári Varga Béla Városi Művelődési Ház
X-ORIGINAL-URL:https://www.vkkboglar.hu
X-WR-CALDESC:Events for Balatonboglári Varga Béla Városi Művelődési Ház
BEGIN:VTIMEZONE
TZID:Europe/Budapest
BEGIN:DAYLIGHT
TZOFFSETFROM:+0100
TZOFFSETTO:+0200
TZNAME:CEST
DTSTART:20240331T010000
END:DAYLIGHT
BEGIN:STANDARD
TZOFFSETFROM:+0200
TZOFFSETTO:+0100
TZNAME:CET
DTSTART:20241027T010000
END:STANDARD
END:VTIMEZONE
BEGIN:VEVENT
DTSTART;TZID=Europe/Budapest:20240315T173000
DTEND;TZID=Europe/Budapest:20240315T183000
DTSTAMP:20260424T031046
CREATED:20240307T094807Z
LAST-MODIFIED:20240307T094807Z
UID:4196-1710523800-1710527400@www.vkkboglar.hu
SUMMARY:KOSSUTH VACSORA
DESCRIPTION:
URL:https://www.vkkboglar.hu/event/kossuth-vacsora-5/
LOCATION:Lengyel-Magyar Barátság Háza\, Árpád utca 17\, Balatonboglár\, Somogy\, 8630\, Magyarország
CATEGORIES:Egyéb
ATTACH;FMTTYPE=image/jpeg:https://www.vkkboglar.hu/wp-content/uploads/2024/03/kossuth-vacsora-2024-page-00001.jpg
ORGANIZER;CN="Bogl%C3%A1ri%20Senior%20N%C3%A9pt%C3%A1nccsoport":MAILTO:boglarsenior@gmail.com
END:VEVENT
END:VCALENDAR