BEGIN:VCALENDAR
VERSION:2.0
PRODID:-//Balatonboglári Varga Béla Városi Művelődési Ház - ECPv5.2.0//NONSGML v1.0//EN
CALSCALE:GREGORIAN
METHOD:PUBLISH
X-WR-CALNAME:Balatonboglári Varga Béla Városi Művelődési Ház
X-ORIGINAL-URL:https://www.vkkboglar.hu
X-WR-CALDESC:Events for Balatonboglári Varga Béla Városi Művelődési Ház
BEGIN:VTIMEZONE
TZID:UTC
BEGIN:STANDARD
TZOFFSETFROM:+0000
TZOFFSETTO:+0000
TZNAME:UTC
DTSTART:20160101T000000
END:STANDARD
END:VTIMEZONE
BEGIN:VEVENT
DTSTART;TZID=UTC:20161026T190000
DTEND;TZID=UTC:20161026T220000
DTSTAMP:20260420T014736
CREATED:20161025T073917Z
LAST-MODIFIED:20161025T073917Z
UID:867-1477508400-1477519200@www.vkkboglar.hu
SUMMARY:Kultkikötő Filmklub
DESCRIPTION:A 2. évad 2. vetítése.
URL:https://www.vkkboglar.hu/event/kultkikoto-filmklub-3/
LOCATION:Lengyel-Magyar Barátság Háza\, Árpád utca 17\, Balatonboglár\, Somogy\, 8630\, Magyarország
ORGANIZER;CN="Kultkik%C3%B6t%C5%91":MAILTO:jegy@kultkikoto.hu
END:VEVENT
END:VCALENDAR