BEGIN:VCALENDAR
VERSION:2.0
PRODID:-//Balatonboglári Varga Béla Városi Művelődési Ház - ECPv5.2.0//NONSGML v1.0//EN
CALSCALE:GREGORIAN
METHOD:PUBLISH
X-WR-CALNAME:Balatonboglári Varga Béla Városi Művelődési Ház
X-ORIGINAL-URL:https://www.vkkboglar.hu
X-WR-CALDESC:Events for Balatonboglári Varga Béla Városi Művelődési Ház
BEGIN:VTIMEZONE
TZID:UTC
BEGIN:STANDARD
TZOFFSETFROM:+0000
TZOFFSETTO:+0000
TZNAME:UTC
DTSTART:20160101T000000
END:STANDARD
END:VTIMEZONE
BEGIN:VEVENT
DTSTART;TZID=UTC:20160723T100000
DTEND;TZID=UTC:20160723T120000
DTSTAMP:20260420T014907
CREATED:20160714T102759Z
LAST-MODIFIED:20160714T102759Z
UID:453-1469268000-1469275200@www.vkkboglar.hu
SUMMARY:Kultkikötő Gyerekszínház
DESCRIPTION:Első puszi – Nulladik szerelem (Takács Eszter)\nKezdés 11.00\nElőtte Játszóház 10.00-tól
URL:https://www.vkkboglar.hu/event/kultkikoto-gyerekszinhaz-4/
LOCATION:Lengyel-Magyar Barátság Háza\, Árpád utca 17\, Balatonboglár\, Somogy\, 8630\, Magyarország
END:VEVENT
END:VCALENDAR