BEGIN:VCALENDAR
VERSION:2.0
PRODID:-//Balatonboglári Varga Béla Városi Művelődési Ház - ECPv5.2.0//NONSGML v1.0//EN
CALSCALE:GREGORIAN
METHOD:PUBLISH
X-WR-CALNAME:Balatonboglári Varga Béla Városi Művelődési Ház
X-ORIGINAL-URL:https://www.vkkboglar.hu
X-WR-CALDESC:Events for Balatonboglári Varga Béla Városi Művelődési Ház
BEGIN:VTIMEZONE
TZID:UTC
BEGIN:STANDARD
TZOFFSETFROM:+0000
TZOFFSETTO:+0000
TZNAME:UTC
DTSTART:20160101T000000
END:STANDARD
END:VTIMEZONE
BEGIN:VEVENT
DTSTART;TZID=UTC:20160910T160000
DTEND;TZID=UTC:20160910T210000
DTSTAMP:20260419T235141
CREATED:20160913T043221Z
LAST-MODIFIED:20160913T043221Z
UID:531-1473523200-1473541200@www.vkkboglar.hu
SUMMARY:Lecsó Party
DESCRIPTION:
URL:https://www.vkkboglar.hu/event/lecso-party/
LOCATION:Platán Strand\, Balatonboglár\, 8630\, Magyarország
END:VEVENT
END:VCALENDAR