BEGIN:VCALENDAR
VERSION:2.0
PRODID:-//Balatonboglári Varga Béla Városi Művelődési Ház - ECPv5.2.0//NONSGML v1.0//EN
CALSCALE:GREGORIAN
METHOD:PUBLISH
X-WR-CALNAME:Balatonboglári Varga Béla Városi Művelődési Ház
X-ORIGINAL-URL:https://www.vkkboglar.hu
X-WR-CALDESC:Events for Balatonboglári Varga Béla Városi Művelődési Ház
BEGIN:VTIMEZONE
TZID:UTC
BEGIN:STANDARD
TZOFFSETFROM:+0000
TZOFFSETTO:+0000
TZNAME:UTC
DTSTART:20160101T000000
END:STANDARD
END:VTIMEZONE
BEGIN:VEVENT
DTSTART;TZID=UTC:20161111T200000
DTEND;TZID=UTC:20161111T230000
DTSTAMP:20260419T220640
CREATED:20161019T122128Z
LAST-MODIFIED:20161025T074132Z
UID:854-1478894400-1478905200@www.vkkboglar.hu
SUMMARY:Márton Napi Mulatság
DESCRIPTION:Márton Napi Mulatság a Vöröskereszt szervezésében.\nA bál bevételével a balatonboglári rászoruló családok\nkarácsonyi csomagjához kívánunk hozzájárulni.
URL:https://www.vkkboglar.hu/event/marton-napi-levesparti/
LOCATION:Lengyel-Magyar Barátság Háza\, Árpád utca 17\, Balatonboglár\, Somogy\, 8630\, Magyarország
END:VEVENT
END:VCALENDAR