BEGIN:VCALENDAR
VERSION:2.0
PRODID:-//Balatonboglári Varga Béla Városi Művelődési Ház - ECPv5.2.0//NONSGML v1.0//EN
CALSCALE:GREGORIAN
METHOD:PUBLISH
X-WR-CALNAME:Balatonboglári Varga Béla Városi Művelődési Ház
X-ORIGINAL-URL:https://www.vkkboglar.hu
X-WR-CALDESC:Events for Balatonboglári Varga Béla Városi Művelődési Ház
BEGIN:VTIMEZONE
TZID:UTC
BEGIN:STANDARD
TZOFFSETFROM:+0000
TZOFFSETTO:+0000
TZNAME:UTC
DTSTART:20160101T000000
END:STANDARD
END:VTIMEZONE
BEGIN:VEVENT
DTSTART;TZID=UTC:20161023T170000
DTEND;TZID=UTC:20161023T170000
DTSTAMP:20260419T220634
CREATED:20161011T040921Z
LAST-MODIFIED:20161012T052330Z
UID:820-1477242000-1477242000@www.vkkboglar.hu
SUMMARY:1956. évi Ünnepi megemlékezés
DESCRIPTION:
URL:https://www.vkkboglar.hu/event/meghivo/
LOCATION:56.-osok tere\, Balatonboglár
END:VEVENT
END:VCALENDAR