BEGIN:VCALENDAR
VERSION:2.0
PRODID:-//Balatonboglári Varga Béla Városi Művelődési Ház - ECPv5.2.0//NONSGML v1.0//EN
CALSCALE:GREGORIAN
METHOD:PUBLISH
X-WR-CALNAME:Balatonboglári Varga Béla Városi Művelődési Ház
X-ORIGINAL-URL:https://www.vkkboglar.hu
X-WR-CALDESC:Events for Balatonboglári Varga Béla Városi Művelődési Ház
BEGIN:VTIMEZONE
TZID:UTC
BEGIN:STANDARD
TZOFFSETFROM:+0000
TZOFFSETTO:+0000
TZNAME:UTC
DTSTART:20220101T000000
END:STANDARD
END:VTIMEZONE
BEGIN:VEVENT
DTSTART;TZID=UTC:20220721T103000
DTEND;TZID=UTC:20220721T113000
DTSTAMP:20260425T191722
CREATED:20220620T064031Z
LAST-MODIFIED:20220620T064031Z
UID:3501-1658399400-1658403000@www.vkkboglar.hu
SUMMARY:Piroska és a farkas | Kultkikötő
DESCRIPTION:Ezúttal egy igazi vidám bábelőadás formájában elevenedik meg a jól ismert mese.\nA bábjátékos ismerteti eme régi történet megfellebbezhetetlen tanulságát\, miszerint a helyes útról letérni veszélyes. Úgyhogy ő is szófogadóan mesél\, míg a helyes úton marad\, hiába csábítják illatos virágok az út mellett\, az erdő sűrűje felé nem csavarog… Na jó\, épp\, hogy egy kicsit elcsábul\, épp csak annyira\, amennyi elcsábulás kell\, hogy ezt az egyébként szörnyen félemeletes mesét legyen mersze elmesélni úgy\, hogy a közönség nevessen. Úgyhogy a bábjátékos megnyitja vásári bódéját\, megköszörüli torkát\, és belezeng Piroska és a farkas történetének hiteles történetébe akkora hévvel\, hogy aztán megnézheti magát. És megnézhetitek ti is. \nJátssza:Majoros Ági\nÍró\, dramaturg: Szabó Attila\nBábok: Kiss Attila Etele\nDíszlet: Sári Miklós\nZene: Nagy Szabolcs\nRendező:Szabó Attila\, Majoros Ági \nAz előadás 3 éves kortól ajánlott. \nJegyvásárlás>> \nJegyár egységesen: 1500 Ft |  | Az előadást megelőző egy órában kézműves foglalkozásra várjuk a gyerekeket!
URL:https://www.vkkboglar.hu/event/piroska-es-a-farkas-kultkikoto/
LOCATION:Lengyel-Magyar Barátság Háza\, Árpád utca 17\, Balatonboglár\, Somogy\, 8630\, Magyarország
CATEGORIES:Színház
ORGANIZER;CN="Kultkik%C3%B6t%C5%91":MAILTO:jegy@kultkikoto.hu
END:VEVENT
END:VCALENDAR