BEGIN:VCALENDAR
VERSION:2.0
PRODID:-//Balatonboglári Varga Béla Városi Művelődési Ház - ECPv5.2.0//NONSGML v1.0//EN
CALSCALE:GREGORIAN
METHOD:PUBLISH
X-WR-CALNAME:Balatonboglári Varga Béla Városi Művelődési Ház
X-ORIGINAL-URL:https://www.vkkboglar.hu
X-WR-CALDESC:Events for Balatonboglári Varga Béla Városi Művelődési Ház
BEGIN:VTIMEZONE
TZID:UTC
BEGIN:STANDARD
TZOFFSETFROM:+0000
TZOFFSETTO:+0000
TZNAME:UTC
DTSTART:20160101T000000
END:STANDARD
END:VTIMEZONE
BEGIN:VEVENT
DTSTART;TZID=UTC:20161112T193000
DTEND;TZID=UTC:20161112T230000
DTSTAMP:20260419T210627
CREATED:20160913T045101Z
LAST-MODIFIED:20160913T045101Z
UID:536-1478979000-1478991600@www.vkkboglar.hu
SUMMARY:Prosectura\, Előzenekar: LOPUNK
DESCRIPTION:
URL:https://www.vkkboglar.hu/event/prosectura-elozenekar-lopunk/
LOCATION:Lengyel-Magyar Barátság Háza\, Árpád utca 17\, Balatonboglár\, Somogy\, 8630\, Magyarország
CATEGORIES:Koncert
ORGANIZER;CN="%22Helyi%C3%A9rt%C3%A9k%22%20Gondolkod%C3%B3k%20%C3%89s%20Alkot%C3%B3k%20Region%C3%A1lis%20Egyes%C3%BClete":MAILTO:helyiertek15@gmail.com
END:VEVENT
END:VCALENDAR