BEGIN:VCALENDAR
VERSION:2.0
PRODID:-//Balatonboglári Varga Béla Városi Művelődési Ház - ECPv5.2.0//NONSGML v1.0//EN
CALSCALE:GREGORIAN
METHOD:PUBLISH
X-WR-CALNAME:Balatonboglári Varga Béla Városi Művelődési Ház
X-ORIGINAL-URL:https://www.vkkboglar.hu
X-WR-CALDESC:Events for Balatonboglári Varga Béla Városi Művelődési Ház
BEGIN:VTIMEZONE
TZID:UTC
BEGIN:STANDARD
TZOFFSETFROM:+0000
TZOFFSETTO:+0000
TZNAME:UTC
DTSTART:20160101T000000
END:STANDARD
END:VTIMEZONE
BEGIN:VEVENT
DTSTART;TZID=UTC:20161008T080000
DTEND;TZID=UTC:20161009T170000
DTSTAMP:20260419T221010
CREATED:20160922T064558Z
LAST-MODIFIED:20160923T050637Z
UID:778-1475913600-1476032400@www.vkkboglar.hu
SUMMARY:Töklámpás Fesztivál
DESCRIPTION:
URL:https://www.vkkboglar.hu/event/toklampas-fesztival/
LOCATION:Szőlőskislak Művház\, Fő utca 2\, Balatonboglár\, Somogy\, Magyarország
END:VEVENT
END:VCALENDAR