BEGIN:VCALENDAR
VERSION:2.0
PRODID:-//Balatonboglári Varga Béla Városi Művelődési Ház - ECPv5.2.0//NONSGML v1.0//EN
CALSCALE:GREGORIAN
METHOD:PUBLISH
X-WR-CALNAME:Balatonboglári Varga Béla Városi Művelődési Ház
X-ORIGINAL-URL:https://www.vkkboglar.hu
X-WR-CALDESC:Events for Balatonboglári Varga Béla Városi Művelődési Ház
BEGIN:VTIMEZONE
TZID:UTC
BEGIN:STANDARD
TZOFFSETFROM:+0000
TZOFFSETTO:+0000
TZNAME:UTC
DTSTART:20160101T000000
END:STANDARD
END:VTIMEZONE
BEGIN:VEVENT
DTSTART;TZID=UTC:20161117T083000
DTEND;TZID=UTC:20161117T120000
DTSTAMP:20260419T204214
CREATED:20161018T103059Z
LAST-MODIFIED:20161018T103059Z
UID:849-1479371400-1479384000@www.vkkboglar.hu
SUMMARY:Vásár
DESCRIPTION:Vegyes vásár a Művelődési ház nagytermében.
URL:https://www.vkkboglar.hu/event/vasar/
LOCATION:Lengyel-Magyar Barátság Háza\, Árpád utca 17\, Balatonboglár\, Somogy\, 8630\, Magyarország
END:VEVENT
END:VCALENDAR