BEGIN:VCALENDAR
VERSION:2.0
PRODID:-//Balatonboglári Varga Béla Városi Művelődési Ház - ECPv5.2.0//NONSGML v1.0//EN
CALSCALE:GREGORIAN
METHOD:PUBLISH
X-WR-CALNAME:Balatonboglári Varga Béla Városi Művelődési Ház
X-ORIGINAL-URL:https://www.vkkboglar.hu
X-WR-CALDESC:Events for Balatonboglári Varga Béla Városi Művelődési Ház
BEGIN:VTIMEZONE
TZID:UTC
BEGIN:STANDARD
TZOFFSETFROM:+0000
TZOFFSETTO:+0000
TZNAME:UTC
DTSTART:20230101T000000
END:STANDARD
END:VTIMEZONE
BEGIN:VEVENT
DTSTART;TZID=UTC:20230727T103000
DTEND;TZID=UTC:20230727T113000
DTSTAMP:20260419T161733
CREATED:20230629T063320Z
LAST-MODIFIED:20230629T063320Z
UID:4001-1690453800-1690457400@www.vkkboglar.hu
SUMMARY:A HÁROM KISMALAC – ZIRÁNÓ SZÍNHÁZ
DESCRIPTION:A Ziránó Színház előadásában a klasszikus mese jelenik meg\, drótos marionett bábok játékának segítségével\, üde zenei kísérettel.\nA három malackának ezúttal is sok gondja akad a farkassal\, de a végén felépül az a ház\, amely menedéket nyújt mindhármuknak. \n  \nJátszók: Pfeifer Zsófia\, Varga Péter Róbert\nRendezte: Boráros Milada és a Ziránó Színház\nTervezte és készítette: Boráros Szilárd\nZenéjét szerezte: Schulteisz Gábor \n  \nAz előadás hossza: kb. 40 perc\nAjánlott: 3 éves kortól\nJegyár: 1900 Ft \nJegyvásárlás>> \nJátszóhely: Kultkikötő – Balatonboglár\, Balatonboglári Varga Béla Városi Művelődési Ház (8630 Balatonboglár\, Árpád utca 17.) \nA Kultkikötő gyerekelőadásai 1 éves kor alatt ingyenesen látogathatók\, a helyfoglalás érkezési sorrendben történik.\nOnline jegyvásárlás esetén a jegyeit e-mailben küldjük\, a belépéshez hozza magával elektronikus vagy nyomtatott formában.
URL:https://www.vkkboglar.hu/event/a-harom-kismalac-zirano-szinhaz/
LOCATION:Lengyel-Magyar Barátság Háza\, Árpád utca 17\, Balatonboglár\, Somogy\, 8630\, Magyarország
CATEGORIES:Színház
ORGANIZER;CN="Kultkik%C3%B6t%C5%91":MAILTO:jegy@kultkikoto.hu
END:VEVENT
END:VCALENDAR